{"text_format":"1","workbook":"xlsx","n_sheets":2,"sheets":["Delara","Liste"],"not_rendered":{"charts":0,"images":3,"macros":1,"external_links":0,"defined_names":2,"comments":0,"pivot_tables":0},"unopened":[],"bounds":{"document_bytes":16777216,"sheet_cells":100000,"rows_first":2000,"rows_last":500,"rows_between":2000,"halvings":0,"cell_chars":16384,"cell_head_chars":4096},"cells_cut":0,"cells_raw":0,"read":"whole","date_system":"1900"}

{"sheet":"Delara","index":0,"n_rows":57,"n_cols":21,"rows_kept":57,"cut":false,"hidden":false,"merged":[[6,0,6,11],[3,0,3,11],[10,19,11,19],[36,15,36,18],[50,15,50,18],[6,13,6,20],[3,13,3,20],[10,20,11,20]]}
[]
[]
[]
[]
["Name",null,null,null,null,null,null,null,null,null,null,null,null,"Customer No."]
[]
[]
["Address",null,null,null,null,null,null,null,null,null,null,null,null,"Order Date"]
["SUBMIT FORM TO   info@silcoxdental.com    or    fax to (330) 702 1558"]
["Delara 6  Anteriors  (set of 6 teeth)"]
["Shade"]
["Mould","A1","A2","A3","A3.5","A4","B1","B2","B3","B4","C1","C2","C3","C4","D2","D3","D4","BL2","BL3"]
["O43"]
["O47"]
["O51"]
["R45"]
["R46"]
["R47"]
["R48"]
["R49"]
["R52"]
["S43"]
["S44"]
["S48"]
["S50"]
["T42"]
["T44"]
["T45"]
["T46"]
["T49"]
["L33"]
["L35"]
["L36"]
["L38"]
["L39"]
["Sum ",{"$f":"SUM(B13:B35)","v":0},{"$f":"SUM(C13:C35)","v":0},0,0,0,0,0,0,0,0,0,0,0,0,0,0,0,0]
[null,null,null,null,null,null,null,null,null,null,null,null,null,null,"Anterior sets total  ",{"$f":"SUM(B36:S36)","v":0}]
[]
["Delara 8 Posteriors (set of 8 teeth)"]
["Shade"]
["Mould","A1","A2","A3","A3.5","A4","B1","B2","B3","B4","C1","C2","C3","C4","D2","D3","D4","BL2","BL3"]
["30U"]
["30L"]
["32U"]
["32L"]
["34U"]
["34L"]
["36U"]
["36L"]
["Sum ",{"$f":"SUM(B42:B49)","v":0},{"$f":"SUM(C42:C49)","v":0},0,0,0,0,0,0,0,0,0,0,0,0,0,0,0,0]
[null,null,null,null,null,null,null,null,null,null,null,null,null,null,"Posterior Sets total  ",{"$f":"SUM(B50:S50)","v":0}]
[]
[]
[]
[]
[]
["© 2018 Kulzer GmbH. All Rights Reserved.",null,null,null,null,null,null,null,null,null,null,null,null,null,null,null,null,null,null,null,"Kulzer GmbH · Leipziger Straße 2 · 63450 Hanau · Germany · kulzer.com"]

{"sheet":"Liste","index":1,"n_rows":561,"n_cols":3,"rows_kept":561,"cut":false,"hidden":false,"merged":[]}
["Druck \"Strg + a\" zur Aktualisierung der Liste."]
[]
["Kurztext","Material-Nr."]
["Delara 6, A1 / O43, CE",66071132,{"$f":"Delara!B13","v":0}]
["Delara 6, A1 / O47, CE",66071133,{"$f":"Delara!B14","v":0}]
["Delara 6, A1 / O51, CE",66071134,{"$f":"Delara!B15","v":0}]
["Delara 6, A1 / R45, CE",66071135,{"$f":"Delara!B16","v":0}]
["Delara 6, A1 / R46, CE",66071136,{"$f":"Delara!B17","v":0}]
["Delara 6, A1 / R47, CE",66071137,{"$f":"Delara!B18","v":0}]
["Delara 6, A1 / R48, CE",66071138,{"$f":"Delara!B19","v":0}]
["Delara 6, A1 / R49, CE",66071139,{"$f":"Delara!B20","v":0}]
["Delara 6, A1 / R52, CE",66071140,{"$f":"Delara!B21","v":0}]
["Delara 6, A1 / S43, CE",66071141,{"$f":"Delara!B22","v":0}]
["Delara 6, A1 / S44, CE",66071142,{"$f":"Delara!B23","v":0}]
["Delara 6, A1 / S48, CE",66071143,{"$f":"Delara!B24","v":0}]
["Delara 6, A1 / S50, CE",66071144,{"$f":"Delara!B25","v":0}]
["Delara 6, A1 / T42, CE",66071145,{"$f":"Delara!B26","v":0}]
["Delara 6, A1 / T44, CE",66071146,{"$f":"Delara!B27","v":0}]
["Delara 6, A1 / T45, CE",66071147,{"$f":"Delara!B28","v":0}]
["Delara 6, A1 / T46, CE",66071148,{"$f":"Delara!B29","v":0}]
["Delara 6, A1 / T49, CE",66071149,{"$f":"Delara!B30","v":0}]
["Delara 6, A2 / O43, CE",66071150,{"$f":"Delara!C13","v":0}]
["Delara 6, A2 / O47, CE",66071151,{"$f":"Delara!C14","v":0}]
["Delara 6, A2 / O51, CE",66071152,{"$f":"Delara!C15","v":0}]
["Delara 6, A2 / R45, CE",66071153,{"$f":"Delara!C16","v":0}]
["Delara 6, A2 / R46, CE",66071154,{"$f":"Delara!C17","v":0}]
["Delara 6, A2 / R47, CE",66071155,{"$f":"Delara!C18","v":0}]
["Delara 6, A2 / R48, CE",66071156,{"$f":"Delara!C19","v":0}]
["Delara 6, A2 / R49, CE",66071157,{"$f":"Delara!C20","v":0}]
["Delara 6, A2 / R52, CE",66071158,{"$f":"Delara!C21","v":0}]
["Delara 6, A2 / S43, CE",66071159,{"$f":"Delara!C22","v":0}]
["Delara 6, A2 / S44, CE",66071160,{"$f":"Delara!C23","v":0}]
["Delara 6, A2 / S48, CE",66071161,{"$f":"Delara!C24","v":0}]
["Delara 6, A2 / S50, CE",66071162,{"$f":"Delara!C25","v":0}]
["Delara 6, A2 / T42, CE",66071163,{"$f":"Delara!C26","v":0}]
["Delara 6, A2 / T44, CE",66071164,{"$f":"Delara!C27","v":0}]
["Delara 6, A2 / T45, CE",66071165,{"$f":"Delara!C28","v":0}]
["Delara 6, A2 / T46, CE",66071166,{"$f":"Delara!C29","v":0}]
["Delara 6, A2 / T49, CE",66071167,{"$f":"Delara!C30","v":0}]
["Delara 6, A3 / O43, CE",66071168,{"$f":"Delara!D13","v":0}]
["Delara 6, A3 / O47, CE",66071169,{"$f":"Delara!D14","v":0}]
["Delara 6, A3 / O51, CE",66071170,{"$f":"Delara!D15","v":0}]
["Delara 6, A3 / R45, CE",66071171,{"$f":"Delara!D16","v":0}]
["Delara 6, A3 / R46, CE",66071172,{"$f":"Delara!D17","v":0}]
["Delara 6, A3 / R47, CE",66071173,{"$f":"Delara!D18","v":0}]
["Delara 6, A3 / R48, CE",66071174,{"$f":"Delara!D19","v":0}]
["Delara 6, A3 / R49, CE",66071175,{"$f":"Delara!D20","v":0}]
["Delara 6, A3 / R52, CE",66071176,{"$f":"Delara!D21","v":0}]
["Delara 6, A3 / S43, CE",66071177,{"$f":"Delara!D22","v":0}]
["Delara 6, A3 / S44, CE",66071178,{"$f":"Delara!D23","v":0}]
["Delara 6, A3 / S48, CE",66071179,{"$f":"Delara!D24","v":0}]
["Delara 6, A3 / S50, CE",66071180,{"$f":"Delara!D25","v":0}]
["Delara 6, A3 / T42, CE",66071181,{"$f":"Delara!D26","v":0}]
["Delara 6, A3 / T44, CE",66071182,{"$f":"Delara!D27","v":0}]
["Delara 6, A3 / T45, CE",66071183,{"$f":"Delara!D28","v":0}]
["Delara 6, A3 / T46, CE",66071184,{"$f":"Delara!D29","v":0}]
["Delara 6, A3 / T49, CE",66071185,{"$f":"Delara!D30","v":0}]
["Delara 6, A3.5 / O43, CE",66071186,{"$f":"Delara!E13","v":0}]
["Delara 6, A3.5 / O47, CE",66071187,{"$f":"Delara!E14","v":0}]
["Delara 6, A3.5 / O51, CE",66071188,{"$f":"Delara!E15","v":0}]
["Delara 6, A3.5 / R45, CE",66071189,{"$f":"Delara!E16","v":0}]
["Delara 6, A3.5 / R46, CE",66071190,{"$f":"Delara!E17","v":0}]
["Delara 6, A3.5 / R47, CE",66071191,{"$f":"Delara!E18","v":0}]
["Delara 6, A3.5 / R48, CE",66071192,{"$f":"Delara!E19","v":0}]
["Delara 6, A3.5 / R49, CE",66071193,{"$f":"Delara!E20","v":0}]
["Delara 6, A3.5 / R52, CE",66071194,{"$f":"Delara!E21","v":0}]
["Delara 6, A3.5 / S43, CE",66071195,{"$f":"Delara!E22","v":0}]
["Delara 6, A3.5 / S44, CE",66071196,{"$f":"Delara!E23","v":0}]
["Delara 6, A3.5 / S48, CE",66071197,{"$f":"Delara!E24","v":0}]
["Delara 6, A3.5 / S50, CE",66071198,{"$f":"Delara!E25","v":0}]
["Delara 6, A3.5 / T42, CE",66071199,{"$f":"Delara!E26","v":0}]
["Delara 6, A3.5 / T44, CE",66071200,{"$f":"Delara!E27","v":0}]
["Delara 6, A3.5 / T45, CE",66071201,{"$f":"Delara!E28","v":0}]
["Delara 6, A3.5 / T46, CE",66071202,{"$f":"Delara!E29","v":0}]
["Delara 6, A3.5 / T49, CE",66071203,{"$f":"Delara!E30","v":0}]
["Delara 6, A4 / O43, CE",66071204,{"$f":"Delara!F13","v":0}]
["Delara 6, A4 / O47, CE",66071205,{"$f":"Delara!F14","v":0}]
["Delara 6, A4 / O51, CE",66071206,{"$f":"Delara!F15","v":0}]
["Delara 6, A4 / R45, CE",66071207,{"$f":"Delara!F16","v":0}]
["Delara 6, A4 / R46, CE",66071208,{"$f":"Delara!F17","v":0}]
["Delara 6, A4 / R47, CE",66071209,{"$f":"Delara!F18","v":0}]
["Delara 6, A4 / R48, CE",66071210,{"$f":"Delara!F19","v":0}]
["Delara 6, A4 / R49, CE",66071211,{"$f":"Delara!F20","v":0}]
["Delara 6, A4 / R52, CE",66071212,{"$f":"Delara!F21","v":0}]
["Delara 6, A4 / S43, CE",66071213,{"$f":"Delara!F22","v":0}]
["Delara 6, A4 / S44, CE",66071214,{"$f":"Delara!F23","v":0}]
["Delara 6, A4 / S48, CE",66071215,{"$f":"Delara!F24","v":0}]
["Delara 6, A4 / S50, CE",66071216,{"$f":"Delara!F25","v":0}]
["Delara 6, A4 / T42, CE",66071217,{"$f":"Delara!F26","v":0}]
["Delara 6, A4 / T44, CE",66071218,{"$f":"Delara!F27","v":0}]
["Delara 6, A4 / T45, CE",66071219,{"$f":"Delara!F28","v":0}]
["Delara 6, A4 / T46, CE",66071220,{"$f":"Delara!F29","v":0}]
["Delara 6, A4 / T49, CE",66071221,{"$f":"Delara!F30","v":0}]
["Delara 6, B1 / O43, CE",66071222,{"$f":"Delara!G13","v":0}]
["Delara 6, B1 / O47, CE",66071223,{"$f":"Delara!G14","v":0}]
["Delara 6, B1 / O51, CE",66071224,{"$f":"Delara!G15","v":0}]
["Delara 6, B1 / R45, CE",66071225,{"$f":"Delara!G16","v":0}]
["Delara 6, B1 / R46, CE",66071226,{"$f":"Delara!G17","v":0}]
["Delara 6, B1 / R47, CE",66071227,{"$f":"Delara!G18","v":0}]
["Delara 6, B1 / R48, CE",66071228,{"$f":"Delara!G19","v":0}]
["Delara 6, B1 / R49, CE",66071229,{"$f":"Delara!G20","v":0}]
["Delara 6, B1 / R52, CE",66071230,{"$f":"Delara!G21","v":0}]
["Delara 6, B1 / S43, CE",66071231,{"$f":"Delara!G22","v":0}]
["Delara 6, B1 / S44, CE",66071232,{"$f":"Delara!G23","v":0}]
["Delara 6, B1 / S48, CE",66071233,{"$f":"Delara!G24","v":0}]
["Delara 6, B1 / S50, CE",66071234,{"$f":"Delara!G25","v":0}]
["Delara 6, B1 / T42, CE",66071235,{"$f":"Delara!G26","v":0}]
["Delara 6, B1 / T44, CE",66071236,{"$f":"Delara!G27","v":0}]
["Delara 6, B1 / T45, CE",66071237,{"$f":"Delara!G28","v":0}]
["Delara 6, B1 / T46, CE",66071238,{"$f":"Delara!G29","v":0}]
["Delara 6, B1 / T49, CE",66071239,{"$f":"Delara!G30","v":0}]
["Delara 6, B2 / O43, CE",66071240,{"$f":"Delara!H13","v":0}]
["Delara 6, B2 / O47, CE",66071241,{"$f":"Delara!H14","v":0}]
["Delara 6, B2 / O51, CE",66071242,{"$f":"Delara!H15","v":0}]
["Delara 6, B2 / R45, CE",66071243,{"$f":"Delara!H16","v":0}]
["Delara 6, B2 / R46, CE",66071244,{"$f":"Delara!H17","v":0}]
["Delara 6, B2 / R47, CE",66071245,{"$f":"Delara!H18","v":0}]
["Delara 6, B2 / R48, CE",66071246,{"$f":"Delara!H19","v":0}]
["Delara 6, B2 / R49, CE",66071247,{"$f":"Delara!H20","v":0}]
["Delara 6, B2 / R52, CE",66071248,{"$f":"Delara!H21","v":0}]
["Delara 6, B2 / S43, CE",66071249,{"$f":"Delara!H22","v":0}]
["Delara 6, B2 / S44, CE",66071250,{"$f":"Delara!H23","v":0}]
["Delara 6, B2 / S48, CE",66071251,{"$f":"Delara!H24","v":0}]
["Delara 6, B2 / S50, CE",66071252,{"$f":"Delara!H25","v":0}]
["Delara 6, B2 / T42, CE",66071253,{"$f":"Delara!H26","v":0}]
["Delara 6, B2 / T44, CE",66071254,{"$f":"Delara!H27","v":0}]
["Delara 6, B2 / T45, CE",66071255,{"$f":"Delara!H28","v":0}]
["Delara 6, B2 / T46, CE",66071256,{"$f":"Delara!H29","v":0}]
["Delara 6, B2 / T49, CE",66071257,{"$f":"Delara!H30","v":0}]
["Delara 6, B3 / O43, CE",66071258,{"$f":"Delara!I13","v":0}]
["Delara 6, B3 / O47, CE",66071259,{"$f":"Delara!I14","v":0}]
["Delara 6, B3 / O51, CE",66071260,{"$f":"Delara!I15","v":0}]
["Delara 6, B3 / R45, CE",66071261,{"$f":"Delara!I16","v":0}]
["Delara 6, B3 / R46, CE",66071262,{"$f":"Delara!I17","v":0}]
["Delara 6, B3 / R47, CE",66071263,{"$f":"Delara!I18","v":0}]
["Delara 6, B3 / R48, CE",66071264,{"$f":"Delara!I19","v":0}]
["Delara 6, B3 / R49, CE",66071265,{"$f":"Delara!I20","v":0}]
["Delara 6, B3 / R52, CE",66071266,{"$f":"Delara!I21","v":0}]
["Delara 6, B3 / S43, CE",66071267,{"$f":"Delara!I22","v":0}]
["Delara 6, B3 / S44, CE",66071268,{"$f":"Delara!I23","v":0}]
["Delara 6, B3 / S48, CE",66071269,{"$f":"Delara!I24","v":0}]
["Delara 6, B3 / S50, CE",66071270,{"$f":"Delara!I25","v":0}]
["Delara 6, B3 / T42, CE",66071271,{"$f":"Delara!I26","v":0}]
["Delara 6, B3 / T44, CE",66071272,{"$f":"Delara!I27","v":0}]
["Delara 6, B3 / T45, CE",66071273,{"$f":"Delara!I28","v":0}]
["Delara 6, B3 / T46, CE",66071274,{"$f":"Delara!I29","v":0}]
["Delara 6, B3 / T49, CE",66071275,{"$f":"Delara!I30","v":0}]
["Delara 6, B4 / O43, CE",66071276,{"$f":"Delara!J13","v":0}]
["Delara 6, B4 / O47, CE",66071277,{"$f":"Delara!J14","v":0}]
["Delara 6, B4 / O51, CE",66071278,{"$f":"Delara!J15","v":0}]
["Delara 6, B4 / R45, CE",66071279,{"$f":"Delara!J16","v":0}]
["Delara 6, B4 / R46, CE",66071280,{"$f":"Delara!J17","v":0}]
["Delara 6, B4 / R47, CE",66071281,{"$f":"Delara!J18","v":0}]
["Delara 6, B4 / R48, CE",66071282,{"$f":"Delara!J19","v":0}]
["Delara 6, B4 / R49, CE",66071283,{"$f":"Delara!J20","v":0}]
["Delara 6, B4 / R52, CE",66071284,{"$f":"Delara!J21","v":0}]
["Delara 6, B4 / S43, CE",66071285,{"$f":"Delara!J22","v":0}]
["Delara 6, B4 / S44, CE",66071286,{"$f":"Delara!J23","v":0}]
["Delara 6, B4 / S48, CE",66071287,{"$f":"Delara!J24","v":0}]
["Delara 6, B4 / S50, CE",66071288,{"$f":"Delara!J25","v":0}]
["Delara 6, B4 / T42, CE",66071289,{"$f":"Delara!J26","v":0}]
["Delara 6, B4 / T44, CE",66071290,{"$f":"Delara!J27","v":0}]
["Delara 6, B4 / T45, CE",66071291,{"$f":"Delara!J28","v":0}]
["Delara 6, B4 / T46, CE",66071292,{"$f":"Delara!J29","v":0}]
["Delara 6, B4 / T49, CE",66071293,{"$f":"Delara!J30","v":0}]
["Delara 6, C1 / O43, CE",66071294,{"$f":"Delara!K13","v":0}]
["Delara 6, C1 / O47, CE",66071295,{"$f":"Delara!K14","v":0}]
["Delara 6, C1 / O51, CE",66071296,{"$f":"Delara!K15","v":0}]
["Delara 6, C1 / R45, CE",66071297,{"$f":"Delara!K16","v":0}]
["Delara 6, C1 / R46, CE",66071298,{"$f":"Delara!K17","v":0}]
["Delara 6, C1 / R47, CE",66071299,{"$f":"Delara!K18","v":0}]
["Delara 6, C1 / R48, CE",66071300,{"$f":"Delara!K19","v":0}]
["Delara 6, C1 / R49, CE",66071301,{"$f":"Delara!K20","v":0}]
["Delara 6, C1 / R52, CE",66071302,{"$f":"Delara!K21","v":0}]
["Delara 6, C1 / S43, CE",66071303,{"$f":"Delara!K22","v":0}]
["Delara 6, C1 / S44, CE",66071304,{"$f":"Delara!K23","v":0}]
["Delara 6, C1 / S48, CE",66071305,{"$f":"Delara!K24","v":0}]
["Delara 6, C1 / S50, CE",66071306,{"$f":"Delara!K25","v":0}]
["Delara 6, C1 / T42, CE",66071307,{"$f":"Delara!K26","v":0}]
["Delara 6, C1 / T44, CE",66071308,{"$f":"Delara!K27","v":0}]
["Delara 6, C1 / T45, CE",66071309,{"$f":"Delara!K28","v":0}]
["Delara 6, C1 / T46, CE",66071310,{"$f":"Delara!K29","v":0}]
["Delara 6, C1 / T49, CE",66071311,{"$f":"Delara!K30","v":0}]
["Delara 6, C2 / O43, CE",66071312,{"$f":"Delara!L13","v":0}]
["Delara 6, C2 / O47, CE",66071313,{"$f":"Delara!L14","v":0}]
["Delara 6, C2 / O51, CE",66071314,{"$f":"Delara!L15","v":0}]
["Delara 6, C2 / R45, CE",66071315,{"$f":"Delara!L16","v":0}]
["Delara 6, C2 / R46, CE",66071316,{"$f":"Delara!L17","v":0}]
["Delara 6, C2 / R47, CE",66071317,{"$f":"Delara!L18","v":0}]
["Delara 6, C2 / R48, CE",66071318,{"$f":"Delara!L19","v":0}]
["Delara 6, C2 / R49, CE",66071319,{"$f":"Delara!L20","v":0}]
["Delara 6, C2 / R52, CE",66071320,{"$f":"Delara!L21","v":0}]
["Delara 6, C2 / S43, CE",66071321,{"$f":"Delara!L22","v":0}]
["Delara 6, C2 / S44, CE",66071322,{"$f":"Delara!L23","v":0}]
["Delara 6, C2 / S48, CE",66071323,{"$f":"Delara!L24","v":0}]
["Delara 6, C2 / S50, CE",66071324,{"$f":"Delara!L25","v":0}]
["Delara 6, C2 / T42, CE",66071325,{"$f":"Delara!L26","v":0}]
["Delara 6, C2 / T44, CE",66071326,{"$f":"Delara!L27","v":0}]
["Delara 6, C2 / T45, CE",66071327,{"$f":"Delara!L28","v":0}]
["Delara 6, C2 / T46, CE",66071328,{"$f":"Delara!L29","v":0}]
["Delara 6, C2 / T49, CE",66071329,{"$f":"Delara!L30","v":0}]
["Delara 6, C3 / O43, CE",66071330,{"$f":"Delara!M13","v":0}]
["Delara 6, C3 / O47, CE",66071331,{"$f":"Delara!M14","v":0}]
["Delara 6, C3 / O51, CE",66071332,{"$f":"Delara!M15","v":0}]
["Delara 6, C3 / R45, CE",66071333,{"$f":"Delara!M16","v":0}]
["Delara 6, C3 / R46, CE",66071334,{"$f":"Delara!M17","v":0}]
["Delara 6, C3 / R47, CE",66071335,{"$f":"Delara!M18","v":0}]
["Delara 6, C3 / R48, CE",66071336,{"$f":"Delara!M19","v":0}]
["Delara 6, C3 / R49, CE",66071337,{"$f":"Delara!M20","v":0}]
["Delara 6, C3 / R52, CE",66071338,{"$f":"Delara!M21","v":0}]
["Delara 6, C3 / S43, CE",66071339,{"$f":"Delara!M22","v":0}]
["Delara 6, C3 / S44, CE",66071340,{"$f":"Delara!M23","v":0}]
["Delara 6, C3 / S48, CE",66071341,{"$f":"Delara!M24","v":0}]
["Delara 6, C3 / S50, CE",66071342,{"$f":"Delara!M25","v":0}]
["Delara 6, C3 / T42, CE",66071343,{"$f":"Delara!M26","v":0}]
["Delara 6, C3 / T44, CE",66071344,{"$f":"Delara!M27","v":0}]
["Delara 6, C3 / T45, CE",66071345,{"$f":"Delara!M28","v":0}]
["Delara 6, C3 / T46, CE",66071346,{"$f":"Delara!M29","v":0}]
["Delara 6, C3 / T49, CE",66071347,{"$f":"Delara!M30","v":0}]
["Delara 6, C4 / O43, CE",66071348,{"$f":"Delara!N13","v":0}]
["Delara 6, C4 / O47, CE",66071349,{"$f":"Delara!N14","v":0}]
["Delara 6, C4 / O51, CE",66071350,{"$f":"Delara!N15","v":0}]
["Delara 6, C4 / R45, CE",66071351,{"$f":"Delara!N16","v":0}]
["Delara 6, C4 / R46, CE",66071352,{"$f":"Delara!N17","v":0}]
["Delara 6, C4 / R47, CE",66071353,{"$f":"Delara!N18","v":0}]
["Delara 6, C4 / R48, CE",66071354,{"$f":"Delara!N19","v":0}]
["Delara 6, C4 / R49, CE",66071355,{"$f":"Delara!N20","v":0}]
["Delara 6, C4 / R52, CE",66071356,{"$f":"Delara!N21","v":0}]
["Delara 6, C4 / S43, CE",66071357,{"$f":"Delara!N22","v":0}]
["Delara 6, C4 / S44, CE",66071358,{"$f":"Delara!N23","v":0}]
["Delara 6, C4 / S48, CE",66071359,{"$f":"Delara!N24","v":0}]
["Delara 6, C4 / S50, CE",66071360,{"$f":"Delara!N25","v":0}]
["Delara 6, C4 / T42, CE",66071361,{"$f":"Delara!N26","v":0}]
["Delara 6, C4 / T44, CE",66071362,{"$f":"Delara!N27","v":0}]
["Delara 6, C4 / T45, CE",66071363,{"$f":"Delara!N28","v":0}]
["Delara 6, C4 / T46, CE",66071364,{"$f":"Delara!N29","v":0}]
["Delara 6, C4 / T49, CE",66071365,{"$f":"Delara!N30","v":0}]
["Delara 6, D2 / O43, CE",66071366,{"$f":"Delara!O13","v":0}]
["Delara 6, D2 / O47, CE",66071367,{"$f":"Delara!O14","v":0}]
["Delara 6, D2 / O51, CE",66071368,{"$f":"Delara!O15","v":0}]
["Delara 6, D2 / R45, CE",66071369,{"$f":"Delara!O16","v":0}]
["Delara 6, D2 / R46, CE",66071370,{"$f":"Delara!O17","v":0}]
["Delara 6, D2 / R47, CE",66071371,{"$f":"Delara!O18","v":0}]
["Delara 6, D2 / R48, CE",66071372,{"$f":"Delara!O19","v":0}]
["Delara 6, D2 / R49, CE",66071373,{"$f":"Delara!O20","v":0}]
["Delara 6, D2 / R52, CE",66071374,{"$f":"Delara!O21","v":0}]
["Delara 6, D2 / S43, CE",66071375,{"$f":"Delara!O22","v":0}]
["Delara 6, D2 / S44, CE",66071376,{"$f":"Delara!O23","v":0}]
["Delara 6, D2 / S48, CE",66071377,{"$f":"Delara!O24","v":0}]
["Delara 6, D2 / S50, CE",66071378,{"$f":"Delara!O25","v":0}]
["Delara 6, D2 / T42, CE",66071379,{"$f":"Delara!O26","v":0}]
["Delara 6, D2 / T44, CE",66071380,{"$f":"Delara!O27","v":0}]
["Delara 6, D2 / T45, CE",66071381,{"$f":"Delara!O28","v":0}]
["Delara 6, D2 / T46, CE",66071382,{"$f":"Delara!O29","v":0}]
["Delara 6, D2 / T49, CE",66071383,{"$f":"Delara!O30","v":0}]
["Delara 6, D3 / O43, CE",66071384,{"$f":"Delara!P13","v":0}]
["Delara 6, D3 / O47, CE",66071385,{"$f":"Delara!P14","v":0}]
["Delara 6, D3 / O51, CE",66071386,{"$f":"Delara!P15","v":0}]
["Delara 6, D3 / R45, CE",66071387,{"$f":"Delara!P16","v":0}]
["Delara 6, D3 / R46, CE",66071388,{"$f":"Delara!P17","v":0}]
["Delara 6, D3 / R47, CE",66071389,{"$f":"Delara!P18","v":0}]
["Delara 6, D3 / R48, CE",66071390,{"$f":"Delara!P19","v":0}]
["Delara 6, D3 / R49, CE",66071391,{"$f":"Delara!P20","v":0}]
["Delara 6, D3 / R52, CE",66071392,{"$f":"Delara!P21","v":0}]
["Delara 6, D3 / S43, CE",66071393,{"$f":"Delara!P22","v":0}]
["Delara 6, D3 / S44, CE",66071394,{"$f":"Delara!P23","v":0}]
["Delara 6, D3 / S48, CE",66071395,{"$f":"Delara!P24","v":0}]
["Delara 6, D3 / S50, CE",66071396,{"$f":"Delara!P25","v":0}]
["Delara 6, D3 / T42, CE",66071397,{"$f":"Delara!P26","v":0}]
["Delara 6, D3 / T44, CE",66071398,{"$f":"Delara!P27","v":0}]
["Delara 6, D3 / T45, CE",66071399,{"$f":"Delara!P28","v":0}]
["Delara 6, D3 / T46, CE",66071400,{"$f":"Delara!P29","v":0}]
["Delara 6, D3 / T49, CE",66071401,{"$f":"Delara!P30","v":0}]
["Delara 6, D4 / O43, CE",66071402,{"$f":"Delara!Q13","v":0}]
["Delara 6, D4 / O47, CE",66071403,{"$f":"Delara!Q14","v":0}]
["Delara 6, D4 / O51, CE",66071404,{"$f":"Delara!Q15","v":0}]
["Delara 6, D4 / R45, CE",66071405,{"$f":"Delara!Q16","v":0}]
["Delara 6, D4 / R46, CE",66071406,{"$f":"Delara!Q17","v":0}]
["Delara 6, D4 / R47, CE",66071407,{"$f":"Delara!Q18","v":0}]
["Delara 6, D4 / R48, CE",66071408,{"$f":"Delara!Q19","v":0}]
["Delara 6, D4 / R49, CE",66071409,{"$f":"Delara!Q20","v":0}]
["Delara 6, D4 / R52, CE",66071410,{"$f":"Delara!Q21","v":0}]
["Delara 6, D4 / S43, CE",66071411,{"$f":"Delara!Q22","v":0}]
["Delara 6, D4 / S44, CE",66071412,{"$f":"Delara!Q23","v":0}]
["Delara 6, D4 / S48, CE",66071413,{"$f":"Delara!Q24","v":0}]
["Delara 6, D4 / S50, CE",66071414,{"$f":"Delara!Q25","v":0}]
["Delara 6, D4 / T42, CE",66071415,{"$f":"Delara!Q26","v":0}]
["Delara 6, D4 / T44, CE",66071416,{"$f":"Delara!Q27","v":0}]
["Delara 6, D4 / T45, CE",66071417,{"$f":"Delara!Q28","v":0}]
["Delara 6, D4 / T46, CE",66071418,{"$f":"Delara!Q29","v":0}]
["Delara 6, D4 / T49, CE",66071419,{"$f":"Delara!Q30","v":0}]
["Delara 6, BL2 / O43, CE",66071420,{"$f":"Delara!R13","v":0}]
["Delara 6, BL2 / O47, CE",66071421,{"$f":"Delara!R14","v":0}]
["Delara 6, BL2 / O51, CE",66071422,{"$f":"Delara!R15","v":0}]
["Delara 6, BL2 / R45, CE",66071423,{"$f":"Delara!R16","v":0}]
["Delara 6, BL2 / R46, CE",66071424,{"$f":"Delara!R17","v":0}]
["Delara 6, BL2 / R47, CE",66071425,{"$f":"Delara!R18","v":0}]
["Delara 6, BL2 / R48, CE",66071426,{"$f":"Delara!R19","v":0}]
["Delara 6, BL2 / R49, CE",66071427,{"$f":"Delara!R20","v":0}]
["Delara 6, BL2 / R52, CE",66071428,{"$f":"Delara!R21","v":0}]
["Delara 6, BL2 / S43, CE",66071429,{"$f":"Delara!R22","v":0}]
["Delara 6, BL2 / S44, CE",66071430,{"$f":"Delara!R23","v":0}]
["Delara 6, BL2 / S48, CE",66071431,{"$f":"Delara!R24","v":0}]
["Delara 6, BL2 / S50, CE",66071432,{"$f":"Delara!R25","v":0}]
["Delara 6, BL2 / T42, CE",66071433,{"$f":"Delara!R26","v":0}]
["Delara 6, BL2 / T44, CE",66071434,{"$f":"Delara!R27","v":0}]
["Delara 6, BL2 / T45, CE",66071435,{"$f":"Delara!R28","v":0}]
["Delara 6, BL2 / T46, CE",66071436,{"$f":"Delara!R29","v":0}]
["Delara 6, BL2 / T49, CE",66071437,{"$f":"Delara!R30","v":0}]
["Delara 6, BL3 / O43, CE",66071438,{"$f":"Delara!S13","v":0}]
["Delara 6, BL3 / O47, CE",66071439,{"$f":"Delara!S14","v":0}]
["Delara 6, BL3 / O51, CE",66071440,{"$f":"Delara!S15","v":0}]
["Delara 6, BL3 / R45, CE",66071441,{"$f":"Delara!S16","v":0}]
["Delara 6, BL3 / R46, CE",66071442,{"$f":"Delara!S17","v":0}]
["Delara 6, BL3 / R47, CE",66071443,{"$f":"Delara!S18","v":0}]
["Delara 6, BL3 / R48, CE",66071444,{"$f":"Delara!S19","v":0}]
["Delara 6, BL3 / R49, CE",66071445,{"$f":"Delara!S20","v":0}]
["Delara 6, BL3 / R52, CE",66071446,{"$f":"Delara!S21","v":0}]
["Delara 6, BL3 / S43, CE",66071447,{"$f":"Delara!S22","v":0}]
["Delara 6, BL3 / S44, CE",66071448,{"$f":"Delara!S23","v":0}]
["Delara 6, BL3 / S48, CE",66071449,{"$f":"Delara!S24","v":0}]
["Delara 6, BL3 / S50, CE",66071450,{"$f":"Delara!S25","v":0}]
["Delara 6, BL3 / T42, CE",66071451,{"$f":"Delara!S26","v":0}]
["Delara 6, BL3 / T44, CE",66071452,{"$f":"Delara!S27","v":0}]
["Delara 6, BL3 / T45, CE",66071453,{"$f":"Delara!S28","v":0}]
["Delara 6, BL3 / T46, CE",66071454,{"$f":"Delara!S29","v":0}]
["Delara 6, BL3 / T49, CE",66071455,{"$f":"Delara!S30","v":0}]
["Delara 6, A1 / L33, CE",66071456,{"$f":"Delara!B31","v":0}]
["Delara 6, A1 / L35, CE",66071457,{"$f":"Delara!B32","v":0}]
["Delara 6, A1 / L36, CE",66071458,{"$f":"Delara!B33","v":0}]
["Delara 6, A1 / L38, CE",66071459,{"$f":"Delara!B34","v":0}]
["Delara 6, A1 / L39, CE",66071460,{"$f":"Delara!B35","v":0}]
["Delara 6, A2 / L33, CE",66071461,{"$f":"Delara!C31","v":0}]
["Delara 6, A2 / L35, CE",66071462,{"$f":"Delara!C32","v":0}]
["Delara 6, A2 / L36, CE",66071463,{"$f":"Delara!C33","v":0}]
["Delara 6, A2 / L38, CE",66071464,{"$f":"Delara!C34","v":0}]
["Delara 6, A2 / L39, CE",66071465,{"$f":"Delara!C35","v":0}]
["Delara 6, A3 / L33, CE",66071466,{"$f":"Delara!D31","v":0}]
["Delara 6, A3 / L35, CE",66071467,{"$f":"Delara!D32","v":0}]
["Delara 6, A3 / L36, CE",66071468,{"$f":"Delara!D33","v":0}]
["Delara 6, A3 / L38, CE",66071469,{"$f":"Delara!D34","v":0}]
["Delara 6, A3 / L39, CE",66071470,{"$f":"Delara!D35","v":0}]
["Delara 6, A3.5 / L33, CE",66071471,{"$f":"Delara!E31","v":0}]
["Delara 6, A3.5 / L35, CE",66071472,{"$f":"Delara!E32","v":0}]
["Delara 6, A3.5 / L36, CE",66071473,{"$f":"Delara!E33","v":0}]
["Delara 6, A3.5 / L38, CE",66071474,{"$f":"Delara!E34","v":0}]
["Delara 6, A3.5 / L39, CE",66071475,{"$f":"Delara!E35","v":0}]
["Delara 6, A4 / L33, CE",66071476,{"$f":"Delara!F31","v":0}]
["Delara 6, A4 / L35, CE",66071477,{"$f":"Delara!F32","v":0}]
["Delara 6, A4 / L36, CE",66071478,{"$f":"Delara!F33","v":0}]
["Delara 6, A4 / L38, CE",66071479,{"$f":"Delara!F34","v":0}]
["Delara 6, A4 / L39, CE",66071480,{"$f":"Delara!F35","v":0}]
["Delara 6, B1 / L33, CE",66071481,{"$f":"Delara!G31","v":0}]
["Delara 6, B1 / L35, CE",66071482,{"$f":"Delara!G32","v":0}]
["Delara 6, B1 / L36, CE",66071483,{"$f":"Delara!G33","v":0}]
["Delara 6, B1 / L38, CE",66071484,{"$f":"Delara!G34","v":0}]
["Delara 6, B1 / L39, CE",66071485,{"$f":"Delara!G35","v":0}]
["Delara 6, B2 / L33, CE",66071486,{"$f":"Delara!H31","v":0}]
["Delara 6, B2 / L35, CE",66071487,{"$f":"Delara!H32","v":0}]
["Delara 6, B2 / L36, CE",66071488,{"$f":"Delara!H33","v":0}]
["Delara 6, B2 / L38, CE",66071489,{"$f":"Delara!H34","v":0}]
["Delara 6, B2 / L39, CE",66071490,{"$f":"Delara!H35","v":0}]
["Delara 6, B3 / L33, CE",66071491,{"$f":"Delara!I31","v":0}]
["Delara 6, B3 / L35, CE",66071492,{"$f":"Delara!I32","v":0}]
["Delara 6, B3 / L36, CE",66071493,{"$f":"Delara!I33","v":0}]
["Delara 6, B3 / L38, CE",66071494,{"$f":"Delara!I34","v":0}]
["Delara 6, B3 / L39, CE",66071495,{"$f":"Delara!I35","v":0}]
["Delara 6, B4 / L33, CE",66071496,{"$f":"Delara!J31","v":0}]
["Delara 6, B4 / L35, CE",66071497,{"$f":"Delara!J32","v":0}]
["Delara 6, B4 / L36, CE",66071498,{"$f":"Delara!J33","v":0}]
["Delara 6, B4 / L38, CE",66071499,{"$f":"Delara!J34","v":0}]
["Delara 6, B4 / L39, CE",66071500,{"$f":"Delara!J35","v":0}]
["Delara 6, C1 / L33, CE",66071501,{"$f":"Delara!K31","v":0}]
["Delara 6, C1 / L35, CE",66071502,{"$f":"Delara!K32","v":0}]
["Delara 6, C1 / L36, CE",66071503,{"$f":"Delara!K33","v":0}]
["Delara 6, C1 / L38, CE",66071504,{"$f":"Delara!K34","v":0}]
["Delara 6, C1 / L39, CE",66071505,{"$f":"Delara!K35","v":0}]
["Delara 6, C2 / L33, CE",66071506,{"$f":"Delara!L31","v":0}]
["Delara 6, C2 / L35, CE",66071507,{"$f":"Delara!L32","v":0}]
["Delara 6, C2 / L36, CE",66071508,{"$f":"Delara!L33","v":0}]
["Delara 6, C2 / L38, CE",66071509,{"$f":"Delara!L34","v":0}]
["Delara 6, C2 / L39, CE",66071510,{"$f":"Delara!L35","v":0}]
["Delara 6, C3 / L33, CE",66071511,{"$f":"Delara!M31","v":0}]
["Delara 6, C3 / L35, CE",66071512,{"$f":"Delara!M32","v":0}]
["Delara 6, C3 / L36, CE",66071513,{"$f":"Delara!M33","v":0}]
["Delara 6, C3 / L38, CE",66071514,{"$f":"Delara!M34","v":0}]
["Delara 6, C3 / L39, CE",66071515,{"$f":"Delara!M35","v":0}]
["Delara 6, C4 / L33, CE",66071516,{"$f":"Delara!N31","v":0}]
["Delara 6, C4 / L35, CE",66071517,{"$f":"Delara!N32","v":0}]
["Delara 6, C4 / L36, CE",66071518,{"$f":"Delara!N33","v":0}]
["Delara 6, C4 / L38, CE",66071519,{"$f":"Delara!N34","v":0}]
["Delara 6, C4 / L39, CE",66071520,{"$f":"Delara!N35","v":0}]
["Delara 6, D2 / L33, CE",66071521,{"$f":"Delara!O31","v":0}]
["Delara 6, D2 / L35, CE",66071522,{"$f":"Delara!O32","v":0}]
["Delara 6, D2 / L36, CE",66071523,{"$f":"Delara!O33","v":0}]
["Delara 6, D2 / L38, CE",66071524,{"$f":"Delara!O34","v":0}]
["Delara 6, D2 / L39, CE",66071525,{"$f":"Delara!O35","v":0}]
["Delara 6, D3 / L33, CE",66071526,{"$f":"Delara!P31","v":0}]
["Delara 6, D3 / L35, CE",66071527,{"$f":"Delara!P32","v":0}]
["Delara 6, D3 / L36, CE",66071528,{"$f":"Delara!P33","v":0}]
["Delara 6, D3 / L38, CE",66071529,{"$f":"Delara!P34","v":0}]
["Delara 6, D3 / L39, CE",66071530,{"$f":"Delara!P35","v":0}]
["Delara 6, D4 / L33, CE",66071531,{"$f":"Delara!Q31","v":0}]
["Delara 6, D4 / L35, CE",66071532,{"$f":"Delara!Q32","v":0}]
["Delara 6, D4 / L36, CE",66071533,{"$f":"Delara!Q33","v":0}]
["Delara 6, D4 / L38, CE",66071534,{"$f":"Delara!Q34","v":0}]
["Delara 6, D4 / L39, CE",66071535,{"$f":"Delara!Q35","v":0}]
["Delara 6, BL2 / L33, CE",66071536,{"$f":"Delara!R31","v":0}]
["Delara 6, BL2 / L35, CE",66071537,{"$f":"Delara!R32","v":0}]
["Delara 6, BL2 / L36, CE",66071538,{"$f":"Delara!R33","v":0}]
["Delara 6, BL2 / L38, CE",66071539,{"$f":"Delara!R34","v":0}]
["Delara 6, BL2 / L39, CE",66071540,{"$f":"Delara!R35","v":0}]
["Delara 6, BL3 / L33, CE",66071541,{"$f":"Delara!S31","v":0}]
["Delara 6, BL3 / L35, CE",66071542,{"$f":"Delara!S32","v":0}]
["Delara 6, BL3 / L36, CE",66071543,{"$f":"Delara!S33","v":0}]
["Delara 6, BL3 / L38, CE",66071544,{"$f":"Delara!S34","v":0}]
["Delara 6, BL3 / L39, CE",66071545,{"$f":"Delara!S35","v":0}]
["Delara 8, A1 / 30U, CE",66071546,{"$f":"Delara!B42","v":0}]
["Delara 8, A1 / 30L, CE",66071547,{"$f":"Delara!B43","v":0}]
["Delara 8, A1 / 32U, CE",66071548,{"$f":"Delara!B44","v":0}]
["Delara 8, A1 / 32L, CE",66071549,{"$f":"Delara!B45","v":0}]
["Delara 8, A1 / 34U, CE",66071550,{"$f":"Delara!B46","v":0}]
["Delara 8, A1 / 34L, CE",66071551,{"$f":"Delara!B47","v":0}]
["Delara 8, A1 / 36U, CE",66071552,{"$f":"Delara!B48","v":0}]
["Delara 8, A1 / 36L, CE",66071553,{"$f":"Delara!B49","v":0}]
["Delara 8, A2 / 30U, CE",66071554,{"$f":"Delara!C42","v":0}]
["Delara 8, A2 / 30L, CE",66071555,{"$f":"Delara!C43","v":0}]
["Delara 8, A2 / 32U, CE",66071556,{"$f":"Delara!C44","v":0}]
["Delara 8, A2 / 32L, CE",66071557,{"$f":"Delara!C45","v":0}]
["Delara 8, A2 / 34U, CE",66071558,{"$f":"Delara!C46","v":0}]
["Delara 8, A2 / 34L, CE",66071559,{"$f":"Delara!C47","v":0}]
["Delara 8, A2 / 36U, CE",66071560,{"$f":"Delara!C48","v":0}]
["Delara 8, A2 / 36L, CE",66071561,{"$f":"Delara!C49","v":0}]
["Delara 8, A3 / 30U, CE",66071562,{"$f":"Delara!D42","v":0}]
["Delara 8, A3 / 30L, CE",66071563,{"$f":"Delara!D43","v":0}]
["Delara 8, A3 / 32U, CE",66071564,{"$f":"Delara!D44","v":0}]
["Delara 8, A3 / 32L, CE",66071565,{"$f":"Delara!D45","v":0}]
["Delara 8, A3 / 34U, CE",66071566,{"$f":"Delara!D46","v":0}]
["Delara 8, A3 / 34L, CE",66071567,{"$f":"Delara!D47","v":0}]
["Delara 8, A3 / 36U, CE",66071568,{"$f":"Delara!D48","v":0}]
["Delara 8, A3 / 36L, CE",66071569,{"$f":"Delara!D49","v":0}]
["Delara 8, A3.5 / 30U, CE",66071570,{"$f":"Delara!E42","v":0}]
["Delara 8, A3.5 / 30L, CE",66071571,{"$f":"Delara!E43","v":0}]
["Delara 8, A3.5 / 32U, CE",66071572,{"$f":"Delara!E44","v":0}]
["Delara 8, A3.5 / 32L, CE",66071573,{"$f":"Delara!E45","v":0}]
["Delara 8, A3.5 / 34U, CE",66071574,{"$f":"Delara!E46","v":0}]
["Delara 8, A3.5 / 34L, CE",66071575,{"$f":"Delara!E47","v":0}]
["Delara 8, A3.5 / 36U, CE",66071576,{"$f":"Delara!E48","v":0}]
["Delara 8, A3.5 / 36L, CE",66071577,{"$f":"Delara!E49","v":0}]
["Delara 8, A4 / 30U, CE",66071578,{"$f":"Delara!F42","v":0}]
["Delara 8, A4 / 30L, CE",66071579,{"$f":"Delara!F43","v":0}]
["Delara 8, A4 / 32U, CE",66071580,{"$f":"Delara!F44","v":0}]
["Delara 8, A4 / 32L, CE",66071581,{"$f":"Delara!F45","v":0}]
["Delara 8, A4 / 34U, CE",66071582,{"$f":"Delara!F46","v":0}]
["Delara 8, A4 / 34L, CE",66071583,{"$f":"Delara!F47","v":0}]
["Delara 8, A4 / 36U, CE",66071584,{"$f":"Delara!F48","v":0}]
["Delara 8, A4 / 36L, CE",66071585,{"$f":"Delara!F49","v":0}]
["Delara 8, B1 / 30U, CE",66071586,{"$f":"Delara!G42","v":0}]
["Delara 8, B1 / 30L, CE",66071587,{"$f":"Delara!G43","v":0}]
["Delara 8, B1 / 32U, CE",66071588,{"$f":"Delara!G44","v":0}]
["Delara 8, B1 / 32L, CE",66071589,{"$f":"Delara!G45","v":0}]
["Delara 8, B1 / 34U, CE",66071590,{"$f":"Delara!G46","v":0}]
["Delara 8, B1 / 34L, CE",66071591,{"$f":"Delara!G47","v":0}]
["Delara 8, B1 / 36U, CE",66071592,{"$f":"Delara!G48","v":0}]
["Delara 8, B1 / 36L, CE",66071593,{"$f":"Delara!G49","v":0}]
["Delara 8, B2 / 30U, CE",66071594,{"$f":"Delara!H42","v":0}]
["Delara 8, B2 / 30L, CE",66071595,{"$f":"Delara!H43","v":0}]
["Delara 8, B2 / 32U, CE",66071596,{"$f":"Delara!H44","v":0}]
["Delara 8, B2 / 32L, CE",66071597,{"$f":"Delara!H45","v":0}]
["Delara 8, B2 / 34U, CE",66071598,{"$f":"Delara!H46","v":0}]
["Delara 8, B2 / 34L, CE",66071599,{"$f":"Delara!H47","v":0}]
["Delara 8, B2 / 36U, CE",66071600,{"$f":"Delara!H48","v":0}]
["Delara 8, B2 / 36L, CE",66071601,{"$f":"Delara!H49","v":0}]
["Delara 8, B3 / 30U, CE",66071602,{"$f":"Delara!I42","v":0}]
["Delara 8, B3 / 30L, CE",66071603,{"$f":"Delara!I43","v":0}]
["Delara 8, B3 / 32U, CE",66071604,{"$f":"Delara!I44","v":0}]
["Delara 8, B3 / 32L, CE",66071605,{"$f":"Delara!I45","v":0}]
["Delara 8, B3 / 34U, CE",66071606,{"$f":"Delara!I46","v":0}]
["Delara 8, B3 / 34L, CE",66071607,{"$f":"Delara!I47","v":0}]
["Delara 8, B3 / 36U, CE",66071608,{"$f":"Delara!I48","v":0}]
["Delara 8, B3 / 36L, CE",66071609,{"$f":"Delara!I49","v":0}]
["Delara 8, B4 / 30U, CE",66071610,{"$f":"Delara!J42","v":0}]
["Delara 8, B4 / 30L, CE",66071611,{"$f":"Delara!J43","v":0}]
["Delara 8, B4 / 32U, CE",66071612,{"$f":"Delara!J44","v":0}]
["Delara 8, B4 / 32L, CE",66071613,{"$f":"Delara!J45","v":0}]
["Delara 8, B4 / 34U, CE",66071614,{"$f":"Delara!J46","v":0}]
["Delara 8, B4 / 34L, CE",66071615,{"$f":"Delara!J47","v":0}]
["Delara 8, B4 / 36U, CE",66071616,{"$f":"Delara!J48","v":0}]
["Delara 8, B4 / 36L, CE",66071617,{"$f":"Delara!J49","v":0}]
["Delara 8, C1 / 30U, CE",66071618,{"$f":"Delara!K42","v":0}]
["Delara 8, C1 / 30L, CE",66071619,{"$f":"Delara!K43","v":0}]
["Delara 8, C1 / 32U, CE",66071620,{"$f":"Delara!K44","v":0}]
["Delara 8, C1 / 32L, CE",66071621,{"$f":"Delara!K45","v":0}]
["Delara 8, C1 / 34U, CE",66071622,{"$f":"Delara!K46","v":0}]
["Delara 8, C1 / 34L, CE",66071623,{"$f":"Delara!K47","v":0}]
["Delara 8, C1 / 36U, CE",66071624,{"$f":"Delara!K48","v":0}]
["Delara 8, C1 / 36L, CE",66071625,{"$f":"Delara!K49","v":0}]
["Delara 8, C2 / 30U, CE",66071626,{"$f":"Delara!L42","v":0}]
["Delara 8, C2 / 30L, CE",66071627,{"$f":"Delara!L43","v":0}]
["Delara 8, C2 / 32U, CE",66071628,{"$f":"Delara!L44","v":0}]
["Delara 8, C2 / 32L, CE",66071629,{"$f":"Delara!L45","v":0}]
["Delara 8, C2 / 34U, CE",66071630,{"$f":"Delara!L46","v":0}]
["Delara 8, C2 / 34L, CE",66071631,{"$f":"Delara!L47","v":0}]
["Delara 8, C2 / 36U, CE",66071632,{"$f":"Delara!L48","v":0}]
["Delara 8, C2 / 36L, CE",66071633,{"$f":"Delara!L49","v":0}]
["Delara 8, C3 / 30U, CE",66071634,{"$f":"Delara!M42","v":0}]
["Delara 8, C3 / 30L, CE",66071635,{"$f":"Delara!M43","v":0}]
["Delara 8, C3 / 32U, CE",66071636,{"$f":"Delara!M44","v":0}]
["Delara 8, C3 / 32L, CE",66071637,{"$f":"Delara!M45","v":0}]
["Delara 8, C3 / 34U, CE",66071638,{"$f":"Delara!M46","v":0}]
["Delara 8, C3 / 34L, CE",66071639,{"$f":"Delara!M47","v":0}]
["Delara 8, C3 / 36U, CE",66071640,{"$f":"Delara!M48","v":0}]
["Delara 8, C3 / 36L, CE",66071641,{"$f":"Delara!M49","v":0}]
["Delara 8, C4 / 30U, CE",66071642,{"$f":"Delara!N42","v":0}]
["Delara 8, C4 / 30L, CE",66071643,{"$f":"Delara!N43","v":0}]
["Delara 8, C4 / 32U, CE",66071644,{"$f":"Delara!N44","v":0}]
["Delara 8, C4 / 32L, CE",66071645,{"$f":"Delara!N45","v":0}]
["Delara 8, C4 / 34U, CE",66071646,{"$f":"Delara!N46","v":0}]
["Delara 8, C4 / 34L, CE",66071647,{"$f":"Delara!N47","v":0}]
["Delara 8, C4 / 36U, CE",66071648,{"$f":"Delara!N48","v":0}]
["Delara 8, C4 / 36L, CE",66071649,{"$f":"Delara!N49","v":0}]
["Delara 8, D2 / 30U, CE",66071650,{"$f":"Delara!O42","v":0}]
["Delara 8, D2 / 30L, CE",66071651,{"$f":"Delara!O43","v":0}]
["Delara 8, D2 / 32U, CE",66071652,{"$f":"Delara!O44","v":0}]
["Delara 8, D2 / 32L, CE",66071653,{"$f":"Delara!O45","v":0}]
["Delara 8, D2 / 34U, CE",66071654,{"$f":"Delara!O46","v":0}]
["Delara 8, D2 / 34L, CE",66071655,{"$f":"Delara!O47","v":0}]
["Delara 8, D2 / 36U, CE",66071656,{"$f":"Delara!O48","v":0}]
["Delara 8, D2 / 36L, CE",66071657,{"$f":"Delara!O49","v":0}]
["Delara 8, D3 / 30U, CE",66071658,{"$f":"Delara!P42","v":0}]
["Delara 8, D3 / 30L, CE",66071659,{"$f":"Delara!P43","v":0}]
["Delara 8, D3 / 32U, CE",66071660,{"$f":"Delara!P44","v":0}]
["Delara 8, D3 / 32L, CE",66071661,{"$f":"Delara!P45","v":0}]
["Delara 8, D3 / 34U, CE",66071662,{"$f":"Delara!P46","v":0}]
["Delara 8, D3 / 34L, CE",66071663,{"$f":"Delara!P47","v":0}]
["Delara 8, D3 / 36U, CE",66071664,{"$f":"Delara!P48","v":0}]
["Delara 8, D3 / 36L, CE",66071665,{"$f":"Delara!P49","v":0}]
["Delara 8, D4 / 30U, CE",66071666,{"$f":"Delara!Q42","v":0}]
["Delara 8, D4 / 30L, CE",66071667,{"$f":"Delara!Q43","v":0}]
["Delara 8, D4 / 32U, CE",66071668,{"$f":"Delara!Q44","v":0}]
["Delara 8, D4 / 32L, CE",66071669,{"$f":"Delara!Q45","v":0}]
["Delara 8, D4 / 34U, CE",66071670,{"$f":"Delara!Q46","v":0}]
["Delara 8, D4 / 34L, CE",66071671,{"$f":"Delara!Q47","v":0}]
["Delara 8, D4 / 36U, CE",66071672,{"$f":"Delara!Q48","v":0}]
["Delara 8, D4 / 36L, CE",66071673,{"$f":"Delara!Q49","v":0}]
["Delara 8, BL2 / 30U, CE",66071674,{"$f":"Delara!R42","v":0}]
["Delara 8, BL2 / 30L, CE",66071675,{"$f":"Delara!R43","v":0}]
["Delara 8, BL2 / 32U, CE",66071676,{"$f":"Delara!R44","v":0}]
["Delara 8, BL2 / 32L, CE",66071677,{"$f":"Delara!R45","v":0}]
["Delara 8, BL2 / 34U, CE",66071678,{"$f":"Delara!R46","v":0}]
["Delara 8, BL2 / 34L, CE",66071679,{"$f":"Delara!R47","v":0}]
["Delara 8, BL2 / 36U, CE",66071680,{"$f":"Delara!R48","v":0}]
["Delara 8, BL2 / 36L, CE",66071681,{"$f":"Delara!R49","v":0}]
["Delara 8, BL3 / 30U, CE",66071682,{"$f":"Delara!S42","v":0}]
["Delara 8, BL3 / 30L, CE",66071683,{"$f":"Delara!S43","v":0}]
["Delara 8, BL3 / 32U, CE",66071684,{"$f":"Delara!S44","v":0}]
["Delara 8, BL3 / 32L, CE",66071685,{"$f":"Delara!S45","v":0}]
["Delara 8, BL3 / 34U, CE",66071686,{"$f":"Delara!S46","v":0}]
["Delara 8, BL3 / 34L, CE",66071687,{"$f":"Delara!S47","v":0}]
["Delara 8, BL3 / 36U, CE",66071688,{"$f":"Delara!S48","v":0}]
["Delara 8, BL3 / 36L, CE",66071689,{"$f":"Delara!S49","v":0}]